BEGIN:VCALENDAR
VERSION:2.0
PRODID:-//Caravan Models - ECPv6.15.20//NONSGML v1.0//EN
CALSCALE:GREGORIAN
METHOD:PUBLISH
X-ORIGINAL-URL:https://www.caravanmodels.com
X-WR-CALDESC:Events for Caravan Models
REFRESH-INTERVAL;VALUE=DURATION:PT1H
X-Robots-Tag:noindex
X-PUBLISHED-TTL:PT1H
BEGIN:VTIMEZONE
TZID:UTC
BEGIN:STANDARD
TZOFFSETFROM:+0000
TZOFFSETTO:+0000
TZNAME:UTC
DTSTART:20220101T000000
END:STANDARD
END:VTIMEZONE
BEGIN:VEVENT
DTSTART;VALUE=DATE:20230118
DTEND;VALUE=DATE:20230122
DTSTAMP:20260425T194244
CREATED:20220725T192936Z
LAST-MODIFIED:20220726T141005Z
UID:6225-1674000000-1674345599@www.caravanmodels.com
SUMMARY:Florida RV and Motorhomes SuperShow 2023
DESCRIPTION:This is a “requirement see show” for all RV associated travel enthusiasts. whether or not you’re a seasoned RVer or simply a starter\, the SuperShow is definitely for you! providing academic seminars\, daily entertainment\, trams to assist you get around\, and also the latest innovative RV products and accessories! 2 booth exhibit halls are choked with elements and accessories\, campgrounds and resorts\, touristry information\, towing provides and lots of different products. You’ll notice every type of RVs from little travel trailers to bus conversion luxury motorhomes. \n\nParkingGeneral parking is handled by the Florida State Fairgrounds.\nFor questions or concerns please contact 813-621-7821 or info@FloridaStateFair.com. Cash and Credit Cards accepted.Daily Rate: Posted in fall\nPetsMild-tempered dogs are welcome on a leash. Please clean up after your pets.\nCampingSuper Rally: Registration to be posted in fallConnect to Camp Florida for area campgrounds\nHotelsHost Hotel:Sheraton Tampa Brandon Hotel\nPricing to be posted in fall\nWheelchairsRentals (manual & electric) are available at entrance gates.On-line reservations to be posted in fall
URL:https://www.caravanmodels.com/event/florida-rv-and-motorhomes-supershow-2023
LOCATION:Florida State Fairgrounds\, 4800 US Highway 301 North Tampa\, FL\, Florida\, 33610\, United States
CATEGORIES:Caravan Shows,United States of America
ATTACH;FMTTYPE=image/jpeg:https://www.caravanmodels.com/wp-content/uploads/2022/07/florida-caravan-fair.jpg
ORGANIZER;CN="Florida State Fairgrounds":MAILTO:info@floridastatefair.com
END:VEVENT
END:VCALENDAR