BEGIN:VCALENDAR
VERSION:2.0
PRODID:-//Caravan Models - ECPv6.15.20//NONSGML v1.0//EN
CALSCALE:GREGORIAN
METHOD:PUBLISH
X-ORIGINAL-URL:https://www.caravanmodels.com
X-WR-CALDESC:Events for Caravan Models
REFRESH-INTERVAL;VALUE=DURATION:PT1H
X-Robots-Tag:noindex
X-PUBLISHED-TTL:PT1H
BEGIN:VTIMEZONE
TZID:UTC
BEGIN:STANDARD
TZOFFSETFROM:+0000
TZOFFSETTO:+0000
TZNAME:UTC
DTSTART:20210101T000000
END:STANDARD
END:VTIMEZONE
BEGIN:VEVENT
DTSTART;VALUE=DATE:20220930
DTEND;VALUE=DATE:20221003
DTSTAMP:20260421T055146
CREATED:20220907T222731Z
LAST-MODIFIED:20220907T222757Z
UID:6696-1664496000-1664755199@www.caravanmodels.com
SUMMARY:Warsaw Camper & Caravan Show 2022
DESCRIPTION:Warsaw Camper & Caravan Show is the largest caravanning fair in Poland and Central and Eastern Europe. \nCombined with a rich exhibition offer (campers\, caravans\, mobile homes\, special tourist vehicles\, coaches\, off-road) with additional attractions (the largest rally of motorhomes and caravans in Poland\, feast\, concert) \nThe largest caravanning rally in Central and Eastern Europe during the Camper Caravan Show. \nThe rally and its participants are a unique group that co-creates the Camper Caravan Show\, gives it a unique atmosphere and brings together fans of widely understood caravanning. \n  \n\n\nExhibitor\n\n\n\nCamper & Caravan Show is an international fair dedicated to the caravanning industry. \nDuring the fair: \n\nYou will get valuable customers -most visitors to Camper & Caravan Show makes or influences purchasing decisions.\nYou will present your products to thousands of visitors – the fair is a comprehensive market overview for visitors and an opportunity to hold business meetings with producers\, distributors and representatives of the largest companies operating in the industry.\nYou will shorten your sales cycle – most visitors are looking at Camper & Caravan Show for new inspirations and ideas.\n\n  \n\n\nVisitors\n\n\n\nDuring CAMPER & CARAVAN SHOW will be presented by producers and distributors of motorhomes\, caravans\, mobile homes\, special tourist vehicles and coaches. \nThe following will be waiting for you at the fair: \n\nthe largest “caravanning town” in Central and Eastern Europe\nspecialist car sector\, “mobile homes” salon\, accessories and solutions for motorhomes and camping sites or “off-road” zone\nlatest vehicles\nnews and special offers\nmeetings with professionals and enthusiasts\nbest purchasing advice\n\n 
URL:https://www.caravanmodels.com/event/warsaw-camper-caravan-show-2022
LOCATION:Warsaw Expo\, Ptak Warsaw Expo Al. Katowicka 62\, 05-830\, Nadarzyn\, Polska\, Poland
CATEGORIES:Caravan Shows,Poland
ATTACH;FMTTYPE=image/jpeg:https://www.caravanmodels.com/wp-content/uploads/2022/09/Warsaw-Camper-Caravan-Show-2022.jpg
ORGANIZER;CN="Warsaw Expo":MAILTO:info@warsawexpo.eu
END:VEVENT
END:VCALENDAR